BEGIN:VCALENDAR
VERSION:2.0
PRODID:https://STTV.tischtennislive.de
METHOD:PUBLISH
X-WR-CALNAME:TischtennisLive-Spieltermine
X-WR-TIMEZONE:Europe/Berlin
BEGIN:VEVENT
UID: W4S_96_990411
ORGANIZER;CN="Manfred Pollog":MAILTO:NoReply@TischtennisLive.de
SUMMARY:MSV Bautzen 04 - SV Sachsenw. Dresden (Landesliga Erwachsene, Gruppe 1)
DESCRIPTION:MSV Bautzen 04 - SV Sachsenw. Dresden (Landesliga Erwachsene, Gruppe 1)
LOCATION:Turnhalle 4. OS Gesundbrunnen, Fr.-Ebert-Str. 4, 02625, Bautzen
CLASS:PUBLIC
DTSTART:20250906T170000Z
DTEND:20250906T193000Z
DTSTAMP:20260423T174958Z
END:VEVENT
BEGIN:VEVENT
UID: W4S_96_990414
ORGANIZER;CN="Manfred Pollog":MAILTO:NoReply@TischtennisLive.de
SUMMARY:SV Sachsenw. Dresden - SG Lückersdorf-Gel. (Landesliga Erwachsene, Gruppe 1)
DESCRIPTION:SV Sachsenw. Dresden - SG Lückersdorf-Gel. (Landesliga Erwachsene, Gruppe 1)
LOCATION:Schule am Landgraben, Pirnaer Landstr. 55, 01257, Dresden
CLASS:PUBLIC
DTSTART:20250920T120000Z
DTEND:20250920T143000Z
DTSTAMP:20260423T174958Z
END:VEVENT
BEGIN:VEVENT
UID: W4S_96_990417
ORGANIZER;CN="Manfred Pollog":MAILTO:NoReply@TischtennisLive.de
SUMMARY:TTC Elbe Dresden 2 - SV Sachsenw. Dresden (Landesliga Erwachsene, Gruppe 1)
DESCRIPTION:TTC Elbe Dresden 2 - SV Sachsenw. Dresden (Landesliga Erwachsene, Gruppe 1)
LOCATION:Turnhalle der 113. Grundschule, Georg-Nerlich-Str. 1, 01307, Dresden
CLASS:PUBLIC
DTSTART:20250927T120000Z
DTEND:20250927T143000Z
DTSTAMP:20260423T174958Z
END:VEVENT
BEGIN:VEVENT
UID: W4S_96_990421
ORGANIZER;CN="Manfred Pollog":MAILTO:NoReply@TischtennisLive.de
SUMMARY:TTV Radebeul - SV Sachsenw. Dresden (Landesliga Erwachsene, Gruppe 1)
DESCRIPTION:TTV Radebeul - SV Sachsenw. Dresden (Landesliga Erwachsene, Gruppe 1)
LOCATION:TH GS Friedrich Schiller, Hauptstraße 10 (Eingang Pestalozzistraße), 01445, Radebeul
CLASS:PUBLIC
DTSTART:20251004T160000Z
DTEND:20251004T183000Z
DTSTAMP:20260423T174958Z
END:VEVENT
BEGIN:VEVENT
UID: W4S_96_990422
ORGANIZER;CN="Manfred Pollog":MAILTO:NoReply@TischtennisLive.de
SUMMARY:SV Sachsenw. Dresden - SV Dresden-Mitte 2 (Landesliga Erwachsene, Gruppe 1)
DESCRIPTION:SV Sachsenw. Dresden - SV Dresden-Mitte 2 (Landesliga Erwachsene, Gruppe 1)
LOCATION:Schule am Landgraben, Pirnaer Landstr. 55, 01257, Dresden
CLASS:PUBLIC
DTSTART:20251011T120000Z
DTEND:20251011T143000Z
DTSTAMP:20260423T174958Z
END:VEVENT
BEGIN:VEVENT
UID: W4S_96_990429
ORGANIZER;CN="Manfred Pollog":MAILTO:NoReply@TischtennisLive.de
SUMMARY:SV Sachsenw. Dresden - TTC Elbe Dresden (Landesliga Erwachsene, Gruppe 1)
DESCRIPTION:SV Sachsenw. Dresden - TTC Elbe Dresden (Landesliga Erwachsene, Gruppe 1)
LOCATION:Schule am Landgraben, Pirnaer Landstr. 55, 01257, Dresden
CLASS:PUBLIC
DTSTART:20251101T130000Z
DTEND:20251101T153000Z
DTSTAMP:20260423T174958Z
END:VEVENT
BEGIN:VEVENT
UID: W4S_96_990433
ORGANIZER;CN="Manfred Pollog":MAILTO:NoReply@TischtennisLive.de
SUMMARY:SV Sachsenw. Dresden - SV Motor Mickten-DD (Landesliga Erwachsene, Gruppe 1)
DESCRIPTION:SV Sachsenw. Dresden - SV Motor Mickten-DD (Landesliga Erwachsene, Gruppe 1)
LOCATION:Schule am Landgraben, Pirnaer Landstr. 55, 01257, Dresden
CLASS:PUBLIC
DTSTART:20251108T120000Z
DTEND:20251108T143000Z
DTSTAMP:20260423T174958Z
END:VEVENT
BEGIN:VEVENT
UID: W4S_96_990439
ORGANIZER;CN="Manfred Pollog":MAILTO:NoReply@TischtennisLive.de
SUMMARY:SV Sachsenw. Dresden - TTV Dresden 2007 (Landesliga Erwachsene, Gruppe 1)
DESCRIPTION:SV Sachsenw. Dresden - TTV Dresden 2007 (Landesliga Erwachsene, Gruppe 1)
LOCATION:Schule am Landgraben, Pirnaer Landstr. 55, 01257, Dresden
CLASS:PUBLIC
DTSTART:20251115T123000Z
DTEND:20251115T150000Z
DTSTAMP:20260423T174958Z
END:VEVENT
BEGIN:VEVENT
UID: W4S_96_990449
ORGANIZER;CN="Manfred Pollog":MAILTO:NoReply@TischtennisLive.de
SUMMARY:SV Sachsenw. Dresden - TTC Pulsnitz 69 (Landesliga Erwachsene, Gruppe 1)
DESCRIPTION:SV Sachsenw. Dresden - TTC Pulsnitz 69 (Landesliga Erwachsene, Gruppe 1)
LOCATION:Schule am Landgraben, Pirnaer Landstr. 55, 01257, Dresden
CLASS:PUBLIC
DTSTART:20251206T130000Z
DTEND:20251206T153000Z
DTSTAMP:20260423T174958Z
END:VEVENT
BEGIN:VEVENT
UID: W4S_96_990459
ORGANIZER;CN="Manfred Pollog":MAILTO:NoReply@TischtennisLive.de
SUMMARY:SV Motor Mickten-DD - SV Sachsenw. Dresden (Landesliga Erwachsene, Gruppe 1)
DESCRIPTION:SV Motor Mickten-DD - SV Sachsenw. Dresden (Landesliga Erwachsene, Gruppe 1)
LOCATION:Sportcenter Motor Mickten, Pestalozziplatz 20, 01127, Dresden
CLASS:PUBLIC
DTSTART:20260124T130000Z
DTEND:20260124T153000Z
DTSTAMP:20260423T174958Z
END:VEVENT
BEGIN:VEVENT
UID: W4S_96_990464
ORGANIZER;CN="Manfred Pollog":MAILTO:NoReply@TischtennisLive.de
SUMMARY:TTV Dresden 2007 - SV Sachsenw. Dresden (Landesliga Erwachsene, Gruppe 1)
DESCRIPTION:TTV Dresden 2007 - SV Sachsenw. Dresden (Landesliga Erwachsene, Gruppe 1)
LOCATION:BSZ für Wirtschaft „Prof. Dr. Zeigner“, Tieckstraße 14, 01099, Dresden
CLASS:PUBLIC
DTSTART:20260207T170000Z
DTEND:20260207T193000Z
DTSTAMP:20260423T174958Z
END:VEVENT
BEGIN:VEVENT
UID: W4S_96_990485
ORGANIZER;CN="Manfred Pollog":MAILTO:NoReply@TischtennisLive.de
SUMMARY:TTC Elbe Dresden - SV Sachsenw. Dresden (Landesliga Erwachsene, Gruppe 1)
DESCRIPTION:TTC Elbe Dresden - SV Sachsenw. Dresden (Landesliga Erwachsene, Gruppe 1)
LOCATION:Turnhalle der 113. Grundschule, Georg-Nerlich-Str. 1, 01307, Dresden
CLASS:PUBLIC
DTSTART:20260208T100000Z
DTEND:20260208T123000Z
DTSTAMP:20260423T174958Z
END:VEVENT
BEGIN:VEVENT
UID: W4S_96_990468
ORGANIZER;CN="Manfred Pollog":MAILTO:NoReply@TischtennisLive.de
SUMMARY:SG Lückersdorf-Gel. - SV Sachsenw. Dresden (Landesliga Erwachsene, Gruppe 1)
DESCRIPTION:SG Lückersdorf-Gel. - SV Sachsenw. Dresden (Landesliga Erwachsene, Gruppe 1)
LOCATION:Sportstätte Gelenau, Hauptstraße 4a, 01917, Kamenz  OT Gelenau
CLASS:PUBLIC
DTSTART:20260221T130000Z
DTEND:20260221T153000Z
DTSTAMP:20260423T174958Z
END:VEVENT
BEGIN:VEVENT
UID: W4S_96_990470
ORGANIZER;CN="Manfred Pollog":MAILTO:NoReply@TischtennisLive.de
SUMMARY:TTC Pulsnitz 69 - SV Sachsenw. Dresden (Landesliga Erwachsene, Gruppe 1)
DESCRIPTION:TTC Pulsnitz 69 - SV Sachsenw. Dresden (Landesliga Erwachsene, Gruppe 1)
LOCATION:Sporthalle, Hempelstraße, 01896, Pulsnitz
CLASS:PUBLIC
DTSTART:20260221T173000Z
DTEND:20260221T200000Z
DTSTAMP:20260423T174958Z
END:VEVENT
BEGIN:VEVENT
UID: W4S_96_1006978
ORGANIZER;CN="Rico Felix":MAILTO:NoReply@TischtennisLive.de
SUMMARY:SV Sachsenw. Dresden - TTV Radebeul (Verbandspokal - Herren)
DESCRIPTION:SV Sachsenw. Dresden - TTV Radebeul (Verbandspokal - Herren)
LOCATION:Schule am Landgraben, Pirnaer Landstr. 55, 01257, Dresden
CLASS:PUBLIC
DTSTART:20260222T090000Z
DTEND:20260222T113000Z
DTSTAMP:20260423T174958Z
END:VEVENT
BEGIN:VEVENT
UID: W4S_96_1006980
ORGANIZER;CN="Rico Felix":MAILTO:NoReply@TischtennisLive.de
SUMMARY:TTV Burgstädt - SV Sachsenw. Dresden (Verbandspokal - Herren)
DESCRIPTION:TTV Burgstädt - SV Sachsenw. Dresden (Verbandspokal - Herren)
LOCATION:Schule am Landgraben, Pirnaer Landstr. 55, 01257, Dresden
CLASS:PUBLIC
DTSTART:20260222T120000Z
DTEND:20260222T143000Z
DTSTAMP:20260423T174958Z
END:VEVENT
BEGIN:VEVENT
UID: W4S_96_990478
ORGANIZER;CN="Manfred Pollog":MAILTO:NoReply@TischtennisLive.de
SUMMARY:SV Sachsenw. Dresden - TTV Radebeul (Landesliga Erwachsene, Gruppe 1)
DESCRIPTION:SV Sachsenw. Dresden - TTV Radebeul (Landesliga Erwachsene, Gruppe 1)
LOCATION:33. Grundschule, Schilfweg 3, 01237, Dresden
CLASS:PUBLIC
DTSTART:20260314T130000Z
DTEND:20260314T153000Z
DTSTAMP:20260423T174958Z
END:VEVENT
BEGIN:VEVENT
UID: W4S_96_990481
ORGANIZER;CN="Manfred Pollog":MAILTO:NoReply@TischtennisLive.de
SUMMARY:SV Sachsenw. Dresden - MSV Bautzen 04 (Landesliga Erwachsene, Gruppe 1)
DESCRIPTION:SV Sachsenw. Dresden - MSV Bautzen 04 (Landesliga Erwachsene, Gruppe 1)
LOCATION:33. Grundschule, Schilfweg 3, 01237, Dresden
CLASS:PUBLIC
DTSTART:20260321T130000Z
DTEND:20260321T153000Z
DTSTAMP:20260423T174958Z
END:VEVENT
BEGIN:VEVENT
UID: W4S_96_1007356
ORGANIZER;CN="Falko Graul":MAILTO:NoReply@TischtennisLive.de
SUMMARY:SV MT Wilkau-Haßlau - SV Sachsenw. Dresden (Erwachsene Pokalmeisterschaft - Klasse A)
DESCRIPTION:SV MT Wilkau-Haßlau - SV Sachsenw. Dresden (Erwachsene Pokalmeisterschaft - Klasse A)
LOCATION:Jörg-Dathe-Sporthalle, Burgstraße 8, 04720, Döbeln
CLASS:PUBLIC
DTSTART:20260329T080000Z
DTEND:20260329T103000Z
DTSTAMP:20260423T174958Z
END:VEVENT
BEGIN:VEVENT
UID: W4S_96_990491
ORGANIZER;CN="Manfred Pollog":MAILTO:NoReply@TischtennisLive.de
SUMMARY:SV Dresden-Mitte 2 - SV Sachsenw. Dresden (Landesliga Erwachsene, Gruppe 1)
DESCRIPTION:SV Dresden-Mitte 2 - SV Sachsenw. Dresden (Landesliga Erwachsene, Gruppe 1)
LOCATION:Berufsschulzentrum für Ernährung, Canalettostraße 8, 01307, Dresden
CLASS:PUBLIC
DTSTART:20260411T160000Z
DTEND:20260411T183000Z
DTSTAMP:20260423T174958Z
END:VEVENT
BEGIN:VEVENT
UID: W4S_96_990495
ORGANIZER;CN="Manfred Pollog":MAILTO:NoReply@TischtennisLive.de
SUMMARY:SV Sachsenw. Dresden - TTC Elbe Dresden 2 (Landesliga Erwachsene, Gruppe 1)
DESCRIPTION:SV Sachsenw. Dresden - TTC Elbe Dresden 2 (Landesliga Erwachsene, Gruppe 1)
LOCATION:33. Grundschule, Schilfweg 3, 01237, Dresden
CLASS:PUBLIC
DTSTART:20260418T120000Z
DTEND:20260418T143000Z
DTSTAMP:20260423T174958Z
END:VEVENT
END:VCALENDAR

